BEGIN:VCALENDAR
VERSION:2.0
PRODID:-//wp-events-plugin.com//7.2.3.1//EN
BEGIN:VEVENT
UID:3@aths.edu.ph
DTSTART:20220620T170000Z
DTEND:20220621T180000Z
DTSTAMP:20220621T082054Z
URL:https://aths.edu.ph/events/skdjsafuiosa/
SUMMARY:skdjsafuiosa
DESCRIPTION:
END:VEVENT
BEGIN:VEVENT
UID:2@aths.edu.ph
DTSTART:20220621T003000Z
DTEND:20220621T043000Z
DTSTAMP:20220620T215432Z
URL:https://aths.edu.ph/events/core-group-meeting/
SUMMARY:Core Group Meeting
DESCRIPTION:Secretary: Ms Agnes\nModerator: Ms Chanda
END:VEVENT
END:VCALENDAR